BEGIN:VCALENDAR
VERSION:2.0
PRODID:-//Solidarietà Insieme 2010 - ECPv5.15.0//NONSGML v1.0//EN
CALSCALE:GREGORIAN
METHOD:PUBLISH
X-WR-CALNAME:Solidarietà Insieme 2010
X-ORIGINAL-URL:https://www.voltoweb.it/si2010
X-WR-CALDESC:Eventi per Solidarietà Insieme 2010
BEGIN:VTIMEZONE
TZID:Europe/Rome
BEGIN:DAYLIGHT
TZOFFSETFROM:+0100
TZOFFSETTO:+0200
TZNAME:CEST
DTSTART:20190331T010000
END:DAYLIGHT
BEGIN:STANDARD
TZOFFSETFROM:+0200
TZOFFSETTO:+0100
TZNAME:CET
DTSTART:20191027T010000
END:STANDARD
END:VTIMEZONE
BEGIN:VEVENT
DTSTART;TZID=Europe/Rome:20190606T213000
DTEND;TZID=Europe/Rome:20190606T223000
DTSTAMP:20260424T192852
CREATED:20190603T133439Z
LAST-MODIFIED:20190603T133439Z
UID:1678-1559856600-1559860200@www.voltoweb.it
SUMMARY:Corso Informativa Antincendio
DESCRIPTION:
URL:https://www.voltoweb.it/si2010/evento/corso-informativa-antincendio/
LOCATION:Santa Rita\, via Vernazza 12\, Torino
CATEGORIES:Calendario attività
END:VEVENT
END:VCALENDAR