BEGIN:VCALENDAR
VERSION:2.0
PRODID:-//Solidarietà Insieme 2010 - ECPv5.15.0//NONSGML v1.0//EN
CALSCALE:GREGORIAN
METHOD:PUBLISH
X-WR-CALNAME:Solidarietà Insieme 2010
X-ORIGINAL-URL:https://www.voltoweb.it/si2010
X-WR-CALDESC:Eventi per Solidarietà Insieme 2010
BEGIN:VTIMEZONE
TZID:Europe/Rome
BEGIN:DAYLIGHT
TZOFFSETFROM:+0100
TZOFFSETTO:+0200
TZNAME:CEST
DTSTART:20190331T010000
END:DAYLIGHT
BEGIN:STANDARD
TZOFFSETFROM:+0200
TZOFFSETTO:+0100
TZNAME:CET
DTSTART:20191027T010000
END:STANDARD
END:VTIMEZONE
BEGIN:VEVENT
DTSTART;TZID=Europe/Rome:20190527T200000
DTEND;TZID=Europe/Rome:20190527T233000
DTSTAMP:20260424T155124
CREATED:20190517T145258Z
LAST-MODIFIED:20190519T135749Z
UID:1184-1558987200-1558999800@www.voltoweb.it
SUMMARY:CENTRO SCIENZA  IL MESTIERE DEL CHIMICO
DESCRIPTION:
URL:https://www.voltoweb.it/si2010/evento/centro-scienza-il-mestiere-del-chimico/
CATEGORIES:Calendario attività
END:VEVENT
END:VCALENDAR