BEGIN:VCALENDAR
VERSION:2.0
PRODID:-//Scienza senza confini - ECPv5.15.0//NONSGML v1.0//EN
CALSCALE:GREGORIAN
METHOD:PUBLISH
X-WR-CALNAME:Scienza senza confini
X-ORIGINAL-URL:https://www.voltoweb.it/scienzasenzaconfini
X-WR-CALDESC:Eventi per Scienza senza confini
BEGIN:VTIMEZONE
TZID:Europe/Rome
BEGIN:DAYLIGHT
TZOFFSETFROM:+0100
TZOFFSETTO:+0200
TZNAME:CEST
DTSTART:20200329T010000
END:DAYLIGHT
BEGIN:STANDARD
TZOFFSETFROM:+0200
TZOFFSETTO:+0100
TZNAME:CET
DTSTART:20201025T010000
END:STANDARD
END:VTIMEZONE
BEGIN:VEVENT
DTSTART;TZID=Europe/Rome:20200205T080000
DTEND;TZID=Europe/Rome:20200205T130000
DTSTAMP:20260423T004943
CREATED:20200202T163442Z
LAST-MODIFIED:20200202T163722Z
UID:267-1580889600-1580907600@www.voltoweb.it
SUMMARY:SSC e AIRC nelle scuole
DESCRIPTION:  \nIn data 05-02-2020 Scienza Senza Confini affiancherà AIRC nella scuola primaria di Pomaretto I.C. Perosa. \nVerranno affrontate le tematiche della corretta alimentazione con i bambini della classe quinta.
URL:https://www.voltoweb.it/scienzasenzaconfini/event/ssc-e-airc-nelle-scuole/
LOCATION:IC PEROSA ARGENTINA-POMARETTO\, VIA CARLO ALBERTO 34\, POMARETTO\, 10063\, Italia
CATEGORIES:Agenda eventi
END:VEVENT
END:VCALENDAR