BEGIN:VCALENDAR
VERSION:2.0
PRODID:-//Scienza senza confini - ECPv5.15.0//NONSGML v1.0//EN
CALSCALE:GREGORIAN
METHOD:PUBLISH
X-WR-CALNAME:Scienza senza confini
X-ORIGINAL-URL:https://www.voltoweb.it/scienzasenzaconfini
X-WR-CALDESC:Eventi per Scienza senza confini
BEGIN:VTIMEZONE
TZID:Europe/Rome
BEGIN:DAYLIGHT
TZOFFSETFROM:+0100
TZOFFSETTO:+0200
TZNAME:CEST
DTSTART:20200329T010000
END:DAYLIGHT
BEGIN:STANDARD
TZOFFSETFROM:+0200
TZOFFSETTO:+0100
TZNAME:CET
DTSTART:20201025T010000
END:STANDARD
END:VTIMEZONE
BEGIN:VEVENT
DTSTART;VALUE=DATE:20200916
DTEND;VALUE=DATE:20200918
DTSTAMP:20260422T231048
CREATED:20200308T133548Z
LAST-MODIFIED:20200913T164501Z
UID:290-1600214400-1600387199@www.voltoweb.it
SUMMARY:Attivita' di prevenzione ed educazione alla salute dedicata al COVID
DESCRIPTION:
URL:https://www.voltoweb.it/scienzasenzaconfini/event/sospensione-di-tutte-le-attivita-per-covid-19-fino-al-3-aprile-2020/
CATEGORIES:Agenda eventi
ATTACH;FMTTYPE=image/jpeg:https://www.voltoweb.it/scienzasenzaconfini/wp-content/uploads/sites/94/2020/03/Locandina-SSC-SCUOLA-PEROSA-LEZIONE-COVID-16-17SETT2020-ver.1.0.jpg
END:VEVENT
END:VCALENDAR