BEGIN:VCALENDAR
VERSION:2.0
PRODID:-//Scienza senza confini - ECPv5.15.0//NONSGML v1.0//EN
CALSCALE:GREGORIAN
METHOD:PUBLISH
X-WR-CALNAME:Scienza senza confini
X-ORIGINAL-URL:https://www.voltoweb.it/scienzasenzaconfini
X-WR-CALDESC:Eventi per Scienza senza confini
BEGIN:VTIMEZONE
TZID:Europe/Rome
BEGIN:DAYLIGHT
TZOFFSETFROM:+0100
TZOFFSETTO:+0200
TZNAME:CEST
DTSTART:20220327T010000
END:DAYLIGHT
BEGIN:STANDARD
TZOFFSETFROM:+0200
TZOFFSETTO:+0100
TZNAME:CET
DTSTART:20221030T010000
END:STANDARD
END:VTIMEZONE
BEGIN:VEVENT
DTSTART;TZID=Europe/Rome:20221225T080000
DTEND;TZID=Europe/Rome:20221227T230000
DTSTAMP:20260422T164941
CREATED:20221225T085707Z
LAST-MODIFIED:20221225T085707Z
UID:788-1671955200-1672182000@www.voltoweb.it
SUMMARY:Scienza Senza Confini augura a tutti buon Natale!
DESCRIPTION:
URL:https://www.voltoweb.it/scienzasenzaconfini/event/scienza-senza-confini-augura-a-tutti-buon-natale/
CATEGORIES:Agenda eventi
ATTACH;FMTTYPE=image/jpeg:https://www.voltoweb.it/scienzasenzaconfini/wp-content/uploads/sites/94/2022/12/Cattura-ssc.jpg
END:VEVENT
END:VCALENDAR