BEGIN:VCALENDAR
VERSION:2.0
PRODID:-//Scienza senza confini - ECPv5.15.0//NONSGML v1.0//EN
CALSCALE:GREGORIAN
METHOD:PUBLISH
X-WR-CALNAME:Scienza senza confini
X-ORIGINAL-URL:https://www.voltoweb.it/scienzasenzaconfini
X-WR-CALDESC:Eventi per Scienza senza confini
BEGIN:VTIMEZONE
TZID:Europe/Rome
BEGIN:DAYLIGHT
TZOFFSETFROM:+0100
TZOFFSETTO:+0200
TZNAME:CEST
DTSTART:20200329T010000
END:DAYLIGHT
BEGIN:STANDARD
TZOFFSETFROM:+0200
TZOFFSETTO:+0100
TZNAME:CET
DTSTART:20201025T010000
END:STANDARD
END:VTIMEZONE
BEGIN:VEVENT
DTSTART;TZID=Europe/Rome:20200502T100000
DTEND;TZID=Europe/Rome:20200505T233000
DTSTAMP:20260423T003537
CREATED:20200502T083612Z
LAST-MODIFIED:20200502T083612Z
UID:477-1588413600-1588721400@www.voltoweb.it
SUMMARY:Materiale per laboratori didattici a distanza - Parte 2
DESCRIPTION:La seconda parte del materiale per i laboratori didattici a distanza di Scienza Senza Confini è on-line!!! \n#icoloridellascienzaacasa \n#iofaccioscienzaacasa
URL:https://www.voltoweb.it/scienzasenzaconfini/event/materiale-per-laboratori-didattici-a-distanza-parte-2/
CATEGORIES:Agenda eventi
ATTACH;FMTTYPE=image/jpeg:https://www.voltoweb.it/scienzasenzaconfini/wp-content/uploads/sites/94/2019/10/Settimana-2-promo_2.jpg
END:VEVENT
END:VCALENDAR