BEGIN:VCALENDAR
VERSION:2.0
PRODID:-//Scienza senza confini - ECPv5.15.0//NONSGML v1.0//EN
CALSCALE:GREGORIAN
METHOD:PUBLISH
X-WR-CALNAME:Scienza senza confini
X-ORIGINAL-URL:https://www.voltoweb.it/scienzasenzaconfini
X-WR-CALDESC:Eventi per Scienza senza confini
BEGIN:VTIMEZONE
TZID:Europe/Rome
BEGIN:DAYLIGHT
TZOFFSETFROM:+0100
TZOFFSETTO:+0200
TZNAME:CEST
DTSTART:20230326T010000
END:DAYLIGHT
BEGIN:STANDARD
TZOFFSETFROM:+0200
TZOFFSETTO:+0100
TZNAME:CET
DTSTART:20231029T010000
END:STANDARD
END:VTIMEZONE
BEGIN:VEVENT
DTSTART;TZID=Europe/Rome:20230126T080000
DTEND;TZID=Europe/Rome:20230128T200000
DTSTAMP:20260422T151512
CREATED:20230126T185730Z
LAST-MODIFIED:20230126T185730Z
UID:792-1674720000-1674936000@www.voltoweb.it
SUMMARY:Le arance della salute 2023
DESCRIPTION:Sabato 28 gennaio Fondazione AIRC torna nelle piazze con le Arance della Salute. \nScienza Senza Confini parteciperà all’evento presso il Carrefour di Corso Monte Cucco 108 Torino. \nVi aspettiamo numerosi!
URL:https://www.voltoweb.it/scienzasenzaconfini/event/le-arance-della-salute-2023/
LOCATION:Carrefour Montecucco\, Corso Monte Cucco 108\, Torino\, Italia
CATEGORIES:Agenda eventi
END:VEVENT
END:VCALENDAR