BEGIN:VCALENDAR
VERSION:2.0
PRODID:-//Scienza senza confini - ECPv5.15.0//NONSGML v1.0//EN
CALSCALE:GREGORIAN
METHOD:PUBLISH
X-WR-CALNAME:Scienza senza confini
X-ORIGINAL-URL:https://www.voltoweb.it/scienzasenzaconfini
X-WR-CALDESC:Eventi per Scienza senza confini
BEGIN:VTIMEZONE
TZID:Europe/Rome
BEGIN:DAYLIGHT
TZOFFSETFROM:+0100
TZOFFSETTO:+0200
TZNAME:CEST
DTSTART:20240331T010000
END:DAYLIGHT
BEGIN:STANDARD
TZOFFSETFROM:+0200
TZOFFSETTO:+0100
TZNAME:CET
DTSTART:20241027T010000
END:STANDARD
END:VTIMEZONE
BEGIN:VEVENT
DTSTART;TZID=Europe/Rome:20240123T080000
DTEND;TZID=Europe/Rome:20240123T170000
DTSTAMP:20260422T135429
CREATED:20240123T190226Z
LAST-MODIFIED:20240123T190227Z
UID:851-1705996800-1706029200@www.voltoweb.it
SUMMARY:Le arance della salute 2023
DESCRIPTION:Sabato 27 gennaio Fondazione AIRC torna nelle piazze con le Arance della Salute. \nScienza Senza Confini parteciperà all’evento presso il Carrefour di Corso Monte Cucco 108 Torino. \nVi aspettiamo numerosi!
URL:https://www.voltoweb.it/scienzasenzaconfini/event/le-arance-della-salute-2023-2/
LOCATION:Carrefour Montecucco\, Corso Monte Cucco 108\, Torino\, Italia
CATEGORIES:Agenda eventi
ATTACH;FMTTYPE=image/jpeg:https://www.voltoweb.it/scienzasenzaconfini/wp-content/uploads/sites/94/2024/01/Immagine-WhatsApp-2024-01-22-ore-08.23.29_c10ed1b8.jpg
END:VEVENT
END:VCALENDAR