BEGIN:VCALENDAR
VERSION:2.0
PRODID:-//Scienza senza confini - ECPv5.15.0//NONSGML v1.0//EN
CALSCALE:GREGORIAN
METHOD:PUBLISH
X-WR-CALNAME:Scienza senza confini
X-ORIGINAL-URL:https://www.voltoweb.it/scienzasenzaconfini
X-WR-CALDESC:Eventi per Scienza senza confini
BEGIN:VTIMEZONE
TZID:Europe/Rome
BEGIN:DAYLIGHT
TZOFFSETFROM:+0100
TZOFFSETTO:+0200
TZNAME:CEST
DTSTART:20240331T010000
END:DAYLIGHT
BEGIN:STANDARD
TZOFFSETFROM:+0200
TZOFFSETTO:+0100
TZNAME:CET
DTSTART:20241027T010000
END:STANDARD
END:VTIMEZONE
BEGIN:VEVENT
DTSTART;TZID=Europe/Rome:20240625T080000
DTEND;TZID=Europe/Rome:20240628T170000
DTSTAMP:20260422T181858
CREATED:20240625T185134Z
LAST-MODIFIED:20240627T164629Z
UID:864-1719302400-1719594000@www.voltoweb.it
SUMMARY:La Magia della Scienza - Estate CIAK - Perosa Argentina
DESCRIPTION:L’associazione Scienza Senza Confini è lieta di comunicare la partecipazione\, per la prima volta\, ad Estate CIAK di Perosa Argentina con l’attività “La Magia della Scienza” nella data del 28 Giugno 2024.
URL:https://www.voltoweb.it/scienzasenzaconfini/event/la-magia-della-scienza-estate-ragazzi-perosa-argentina/
ATTACH;FMTTYPE=image/jpeg:https://www.voltoweb.it/scienzasenzaconfini/wp-content/uploads/sites/94/2024/06/IMG-20240624-WA0005.jpg
END:VEVENT
END:VCALENDAR