BEGIN:VCALENDAR
VERSION:2.0
PRODID:-//Scienza senza confini - ECPv5.15.0//NONSGML v1.0//EN
CALSCALE:GREGORIAN
METHOD:PUBLISH
X-WR-CALNAME:Scienza senza confini
X-ORIGINAL-URL:https://www.voltoweb.it/scienzasenzaconfini
X-WR-CALDESC:Eventi per Scienza senza confini
BEGIN:VTIMEZONE
TZID:Europe/Rome
BEGIN:DAYLIGHT
TZOFFSETFROM:+0100
TZOFFSETTO:+0200
TZNAME:CEST
DTSTART:20210328T010000
END:DAYLIGHT
BEGIN:STANDARD
TZOFFSETFROM:+0200
TZOFFSETTO:+0100
TZNAME:CET
DTSTART:20211031T010000
END:STANDARD
END:VTIMEZONE
BEGIN:VEVENT
DTSTART;TZID=Europe/Rome:20210307T190000
DTEND;TZID=Europe/Rome:20210310T233000
DTSTAMP:20260422T225152
CREATED:20210307T183546Z
LAST-MODIFIED:20210307T183650Z
UID:550-1615143600-1615419000@www.voltoweb.it
SUMMARY:"La cura vien dal mare..."
DESCRIPTION:“Il mare copre il 70% del pianeta e ospita l’80% degli esseri viventi. \nNel corso di milioni di anni\, l’evoluzione ha permesso agli organismi marini di sviluppare una varietà di sostanze con attività biologica che utilizzano come meccanismi di sopravvivenza\, difesa\, attacco e comunicazione. \nLa scoperta di queste sostanze offre grandi opportunità per lo sviluppo di nuovi farmaci” \n  \nCon questa premessa\, vogliamo invitarvi mercoledi 10 marzo alle ore 21 alla serata “La cura vien dal mare…” a cura del Dr. Marco Macagno\, presidente dell’associazione Scienza Senza Confini. \n  \nSarà una serata interessante in cui potremo conoscere un aspetto del mondo marino che\, probabilmente per la maggior parte di noi\, è  sconosciuto. \n  \nPer partecipare\, cliccate sul link: \nhttps://meet.google.com/zyc-owpj-svb \nVi aspettiamo?
URL:https://www.voltoweb.it/scienzasenzaconfini/event/la-cura-vien-dal-mare/
CATEGORIES:Agenda eventi
ATTACH;FMTTYPE=image/jpeg:https://www.voltoweb.it/scienzasenzaconfini/wp-content/uploads/sites/94/2019/10/Locandina-La-cura-vien-dal-mare.jpg
END:VEVENT
END:VCALENDAR