BEGIN:VCALENDAR
VERSION:2.0
PRODID:-//Scienza senza confini - ECPv5.15.0//NONSGML v1.0//EN
CALSCALE:GREGORIAN
METHOD:PUBLISH
X-WR-CALNAME:Scienza senza confini
X-ORIGINAL-URL:https://www.voltoweb.it/scienzasenzaconfini
X-WR-CALDESC:Eventi per Scienza senza confini
BEGIN:VTIMEZONE
TZID:Europe/Rome
BEGIN:DAYLIGHT
TZOFFSETFROM:+0100
TZOFFSETTO:+0200
TZNAME:CEST
DTSTART:20200329T010000
END:DAYLIGHT
BEGIN:STANDARD
TZOFFSETFROM:+0200
TZOFFSETTO:+0100
TZNAME:CET
DTSTART:20201025T010000
END:STANDARD
BEGIN:DAYLIGHT
TZOFFSETFROM:+0100
TZOFFSETTO:+0200
TZNAME:CEST
DTSTART:20210328T010000
END:DAYLIGHT
BEGIN:STANDARD
TZOFFSETFROM:+0200
TZOFFSETTO:+0100
TZNAME:CET
DTSTART:20211031T010000
END:STANDARD
END:VTIMEZONE
BEGIN:VEVENT
DTSTART;TZID=Europe/Rome:20201223T080000
DTEND;TZID=Europe/Rome:20210106T233000
DTSTAMP:20260423T000522
CREATED:20201223T135913Z
LAST-MODIFIED:20201223T135913Z
UID:546-1608710400-1609975800@www.voltoweb.it
SUMMARY:Buone Feste 2020!
DESCRIPTION:Scienza Senza Confini augura a tutti buone feste! \n 
URL:https://www.voltoweb.it/scienzasenzaconfini/event/buone-feste-2020/
CATEGORIES:Agenda eventi
ATTACH;FMTTYPE=image/jpeg:https://www.voltoweb.it/scienzasenzaconfini/wp-content/uploads/sites/94/2019/10/Immagine-2020-12-23-145129.jpg
END:VEVENT
END:VCALENDAR