BEGIN:VCALENDAR
VERSION:2.0
PRODID:-//Associazione &quot;Mariuccia Allovio&quot; - ECPv5.15.0//NONSGML v1.0//EN
CALSCALE:GREGORIAN
METHOD:PUBLISH
X-WR-CALNAME:Associazione &quot;Mariuccia Allovio&quot;
X-ORIGINAL-URL:https://www.voltoweb.it/mariucciaallovio
X-WR-CALDESC:Eventi per Associazione &quot;Mariuccia Allovio&quot;
BEGIN:VTIMEZONE
TZID:Europe/Rome
BEGIN:DAYLIGHT
TZOFFSETFROM:+0100
TZOFFSETTO:+0200
TZNAME:CEST
DTSTART:20230326T010000
END:DAYLIGHT
BEGIN:STANDARD
TZOFFSETFROM:+0200
TZOFFSETTO:+0100
TZNAME:CET
DTSTART:20231029T010000
END:STANDARD
END:VTIMEZONE
BEGIN:VEVENT
DTSTART;TZID=Europe/Rome:20231216T180000
DTEND;TZID=Europe/Rome:20231217T123000
DTSTAMP:20260424T221459
CREATED:20231120T095253Z
LAST-MODIFIED:20231120T095253Z
UID:452-1702749600-1702816200@www.voltoweb.it
SUMMARY:MANIFESTAZIONE RISO
DESCRIPTION:
URL:https://www.voltoweb.it/mariucciaallovio/evento/manifestazione-riso/
LOCATION:Davanti alle Chiese di San Mauro T.se
END:VEVENT
END:VCALENDAR