BEGIN:VCALENDAR
VERSION:2.0
PRODID:-//Associazione &quot;Mariuccia Allovio&quot; - ECPv5.15.0//NONSGML v1.0//EN
CALSCALE:GREGORIAN
METHOD:PUBLISH
X-WR-CALNAME:Associazione &quot;Mariuccia Allovio&quot;
X-ORIGINAL-URL:https://www.voltoweb.it/mariucciaallovio
X-WR-CALDESC:Eventi per Associazione &quot;Mariuccia Allovio&quot;
BEGIN:VTIMEZONE
TZID:Europe/Rome
BEGIN:DAYLIGHT
TZOFFSETFROM:+0100
TZOFFSETTO:+0200
TZNAME:CEST
DTSTART:20240331T010000
END:DAYLIGHT
BEGIN:STANDARD
TZOFFSETFROM:+0200
TZOFFSETTO:+0100
TZNAME:CET
DTSTART:20241027T010000
END:STANDARD
END:VTIMEZONE
BEGIN:VEVENT
DTSTART;TZID=Europe/Rome:20241019T140000
DTEND;TZID=Europe/Rome:20241019T233000
DTSTAMP:20260424T172308
CREATED:20241004T092231Z
LAST-MODIFIED:20241009T095720Z
UID:477-1729346400-1729380600@www.voltoweb.it
SUMMARY:GARA DI BOCCE
DESCRIPTION:
URL:https://www.voltoweb.it/mariucciaallovio/evento/gara-di-bocce-2/
LOCATION:CASTIGLIONE TORINESE\, Via Torino 20\, Castiglione Torinese\, Italia
CATEGORIES:Eventi,GARA DI BOCCE
ATTACH;FMTTYPE=image/jpeg:https://www.voltoweb.it/mariucciaallovio/wp-content/uploads/sites/113/2024/10/Volantino-Bocce-2024-4.jpg
ORGANIZER;CN="Associazione%20Mariuccia%20Allovio":MAILTO:ass-m.allovio@libero.it
END:VEVENT
END:VCALENDAR