BEGIN:VCALENDAR
VERSION:2.0
PRODID:-//Con altri occhi - ECPv5.15.0//NONSGML v1.0//EN
CALSCALE:GREGORIAN
METHOD:PUBLISH
X-WR-CALNAME:Con altri occhi
X-ORIGINAL-URL:https://www.voltoweb.it/conaltriocchi
X-WR-CALDESC:Eventi per Con altri occhi
BEGIN:VTIMEZONE
TZID:Europe/Rome
BEGIN:DAYLIGHT
TZOFFSETFROM:+0100
TZOFFSETTO:+0200
TZNAME:CEST
DTSTART:20240331T010000
END:DAYLIGHT
BEGIN:STANDARD
TZOFFSETFROM:+0200
TZOFFSETTO:+0100
TZNAME:CET
DTSTART:20241027T010000
END:STANDARD
END:VTIMEZONE
BEGIN:VEVENT
DTSTART;TZID=Europe/Rome:20240325T080000
DTEND;TZID=Europe/Rome:20240327T140000
DTSTAMP:20260422T081353
CREATED:20240325T101456Z
LAST-MODIFIED:20240325T101456Z
UID:733-1711353600-1711548000@www.voltoweb.it
SUMMARY:Raccolta alimentare
DESCRIPTION:
URL:https://www.voltoweb.it/conaltriocchi/evento/raccolta-alimentare/
LOCATION:IC Valperga
CATEGORIES:Calendario
END:VEVENT
END:VCALENDAR