BEGIN:VCALENDAR
VERSION:2.0
PRODID:-//Con altri occhi - ECPv5.15.0//NONSGML v1.0//EN
CALSCALE:GREGORIAN
METHOD:PUBLISH
X-WR-CALNAME:Con altri occhi
X-ORIGINAL-URL:https://www.voltoweb.it/conaltriocchi
X-WR-CALDESC:Eventi per Con altri occhi
BEGIN:VTIMEZONE
TZID:Europe/Rome
BEGIN:DAYLIGHT
TZOFFSETFROM:+0100
TZOFFSETTO:+0200
TZNAME:CEST
DTSTART:20240331T010000
END:DAYLIGHT
BEGIN:STANDARD
TZOFFSETFROM:+0200
TZOFFSETTO:+0100
TZNAME:CET
DTSTART:20241027T010000
END:STANDARD
END:VTIMEZONE
BEGIN:VEVENT
DTSTART;TZID=Europe/Rome:20240405T100000
DTEND;TZID=Europe/Rome:20240405T120000
DTSTAMP:20260422T081623
CREATED:20240226T085118Z
LAST-MODIFIED:20240226T085118Z
UID:707-1712311200-1712318400@www.voltoweb.it
SUMMARY:IO CITTADINO al cinema
DESCRIPTION:
URL:https://www.voltoweb.it/conaltriocchi/evento/io-cittadino-al-cinema-3/
LOCATION:Cinema Valperga\, Valperga\, Italia
CATEGORIES:Calendario
END:VEVENT
END:VCALENDAR