BEGIN:VCALENDAR
VERSION:2.0
PRODID:-//AU.DI.DO. - ECPv5.15.0//NONSGML v1.0//EN
CALSCALE:GREGORIAN
METHOD:PUBLISH
X-WR-CALNAME:AU.DI.DO.
X-ORIGINAL-URL:https://www.voltoweb.it/audido
X-WR-CALDESC:Eventi per AU.DI.DO.
BEGIN:VTIMEZONE
TZID:Europe/Rome
BEGIN:DAYLIGHT
TZOFFSETFROM:+0100
TZOFFSETTO:+0200
TZNAME:CEST
DTSTART:20210328T010000
END:DAYLIGHT
BEGIN:STANDARD
TZOFFSETFROM:+0200
TZOFFSETTO:+0100
TZNAME:CET
DTSTART:20211031T010000
END:STANDARD
END:VTIMEZONE
BEGIN:VEVENT
DTSTART;VALUE=DATE:20210425
DTEND;VALUE=DATE:20210426
DTSTAMP:20260420T053248
CREATED:20210301T150913Z
LAST-MODIFIED:20210505T073412Z
UID:10180-1619308800-1619395199@www.voltoweb.it
SUMMARY:ANNULLATA Uscita con il CAI di Alpignano
DESCRIPTION:Uscita con il CAI di Alpignano (restrizioni COVID permettendo). \nLocalità e orari ancora da definire \nGITA ANNULLATA CAUSA COVID-19
URL:https://www.voltoweb.it/audido/eventi/uscita-con-il-cai-di-alpignano/
CATEGORIES:gita
END:VEVENT
END:VCALENDAR