BEGIN:VCALENDAR
VERSION:2.0
PRODID:-//AU.DI.DO. - ECPv5.15.0//NONSGML v1.0//EN
CALSCALE:GREGORIAN
METHOD:PUBLISH
X-WR-CALNAME:AU.DI.DO.
X-ORIGINAL-URL:https://www.voltoweb.it/audido
X-WR-CALDESC:Eventi per AU.DI.DO.
BEGIN:VTIMEZONE
TZID:Europe/Rome
BEGIN:DAYLIGHT
TZOFFSETFROM:+0100
TZOFFSETTO:+0200
TZNAME:CEST
DTSTART:20210328T010000
END:DAYLIGHT
BEGIN:STANDARD
TZOFFSETFROM:+0200
TZOFFSETTO:+0100
TZNAME:CET
DTSTART:20211031T010000
END:STANDARD
END:VTIMEZONE
BEGIN:VEVENT
DTSTART;VALUE=DATE:20210918
DTEND;VALUE=DATE:20210919
DTSTAMP:20260420T134901
CREATED:20210914T130011Z
LAST-MODIFIED:20210918T090929Z
UID:11070-1631923200-1632009599@www.voltoweb.it
SUMMARY:Torneo di tennis a Cumiana
DESCRIPTION:Torneo di tennis a Cumiana \nVai alla news
URL:https://www.voltoweb.it/audido/eventi/torneo-di-tennis-a-cumiana/
CATEGORIES:sport
END:VEVENT
END:VCALENDAR