BEGIN:VCALENDAR
VERSION:2.0
PRODID:-//AU.DI.DO. - ECPv5.15.0//NONSGML v1.0//EN
CALSCALE:GREGORIAN
METHOD:PUBLISH
X-WR-CALNAME:AU.DI.DO.
X-ORIGINAL-URL:https://www.voltoweb.it/audido
X-WR-CALDESC:Eventi per AU.DI.DO.
BEGIN:VTIMEZONE
TZID:Europe/Rome
BEGIN:DAYLIGHT
TZOFFSETFROM:+0100
TZOFFSETTO:+0200
TZNAME:CEST
DTSTART:20220327T010000
END:DAYLIGHT
BEGIN:STANDARD
TZOFFSETFROM:+0200
TZOFFSETTO:+0100
TZNAME:CET
DTSTART:20221030T010000
END:STANDARD
END:VTIMEZONE
BEGIN:VEVENT
DTSTART;VALUE=DATE:20220408
DTEND;VALUE=DATE:20220411
DTSTAMP:20260421T020545
CREATED:20220410T102330Z
LAST-MODIFIED:20220410T102330Z
UID:12179-1649376000-1649635199@www.voltoweb.it
SUMMARY:Soggiorno Teatrale
DESCRIPTION:08\, 09 e 10 aprile presso l’ecomuseo Munlab di Cambiano: \nsoggiorno teatrale a cura della rete Trame. \nTitolo del soggiorno: Come in cielo Così in terra. \nPresente il GRUPPO TEATRALE AUDIDO \nRif. Alberto
URL:https://www.voltoweb.it/audido/eventi/soggiorno-teatrale/
CATEGORIES:attività
END:VEVENT
END:VCALENDAR