BEGIN:VCALENDAR
VERSION:2.0
PRODID:-//AU.DI.DO. - ECPv5.15.0//NONSGML v1.0//EN
CALSCALE:GREGORIAN
METHOD:PUBLISH
X-WR-CALNAME:AU.DI.DO.
X-ORIGINAL-URL:https://www.voltoweb.it/audido
X-WR-CALDESC:Eventi per AU.DI.DO.
BEGIN:VTIMEZONE
TZID:Europe/Rome
BEGIN:DAYLIGHT
TZOFFSETFROM:+0100
TZOFFSETTO:+0200
TZNAME:CEST
DTSTART:20230326T010000
END:DAYLIGHT
BEGIN:STANDARD
TZOFFSETFROM:+0200
TZOFFSETTO:+0100
TZNAME:CET
DTSTART:20231029T010000
END:STANDARD
END:VTIMEZONE
BEGIN:VEVENT
DTSTART;TZID=Europe/Rome:20231216T150000
DTEND;TZID=Europe/Rome:20231216T200000
DTSTAMP:20260424T075155
CREATED:20231211T212720Z
LAST-MODIFIED:20231211T222649Z
UID:16018-1702738800-1702756800@www.voltoweb.it
SUMMARY:Scambio auguri di Buone Feste in sede
DESCRIPTION:Vai alla news
URL:https://www.voltoweb.it/audido/eventi/scambio-auguri-di-buone-feste-in-sede/
CATEGORIES:attività ricreativa
END:VEVENT
END:VCALENDAR