BEGIN:VCALENDAR
VERSION:2.0
PRODID:-//AU.DI.DO. - ECPv5.15.0//NONSGML v1.0//EN
CALSCALE:GREGORIAN
METHOD:PUBLISH
X-WR-CALNAME:AU.DI.DO.
X-ORIGINAL-URL:https://www.voltoweb.it/audido
X-WR-CALDESC:Eventi per AU.DI.DO.
BEGIN:VTIMEZONE
TZID:Europe/Rome
BEGIN:DAYLIGHT
TZOFFSETFROM:+0100
TZOFFSETTO:+0200
TZNAME:CEST
DTSTART:20200329T010000
END:DAYLIGHT
BEGIN:STANDARD
TZOFFSETFROM:+0200
TZOFFSETTO:+0100
TZNAME:CET
DTSTART:20201025T010000
END:STANDARD
END:VTIMEZONE
BEGIN:VEVENT
DTSTART;TZID=Europe/Rome:20201109T180000
DTEND;TZID=Europe/Rome:20201109T193000
DTSTAMP:20260420T052604
CREATED:20201105T104010Z
LAST-MODIFIED:20201105T104311Z
UID:9908-1604944800-1604950200@www.voltoweb.it
SUMMARY:Riunione virtuale VOLONTARI
DESCRIPTION:Riunione i virtuale con TUTTI I VOLONTARI e con coloro che sono interessati a donare del tempo per attività virtuali durante questo nuovo periodo di chiusura. \nUseremo la piattaforma ZOOM e il link inviato con WhatsApp. Per maggiore info contattare il Presidente Nicola Paiuzza.
URL:https://www.voltoweb.it/audido/eventi/riunione-virtuale-volontari/
LOCATION:ON LINe con ZOOM
CATEGORIES:Riunione on line
END:VEVENT
END:VCALENDAR