BEGIN:VCALENDAR
VERSION:2.0
PRODID:-//AU.DI.DO. - ECPv5.15.0//NONSGML v1.0//EN
CALSCALE:GREGORIAN
METHOD:PUBLISH
X-WR-CALNAME:AU.DI.DO.
X-ORIGINAL-URL:https://www.voltoweb.it/audido
X-WR-CALDESC:Eventi per AU.DI.DO.
BEGIN:VTIMEZONE
TZID:Europe/Rome
BEGIN:DAYLIGHT
TZOFFSETFROM:+0100
TZOFFSETTO:+0200
TZNAME:CEST
DTSTART:20210328T010000
END:DAYLIGHT
BEGIN:STANDARD
TZOFFSETFROM:+0200
TZOFFSETTO:+0100
TZNAME:CET
DTSTART:20211031T010000
END:STANDARD
END:VTIMEZONE
BEGIN:VEVENT
DTSTART;TZID=Europe/Rome:20210220T160000
DTEND;TZID=Europe/Rome:20210220T180000
DTSTAMP:20260420T015736
CREATED:20210402T135757Z
LAST-MODIFIED:20210402T140906Z
UID:10234-1613836800-1613844000@www.voltoweb.it
SUMMARY:Riunione del Consiglio Direttivo
DESCRIPTION:Alle ore 16:00 riunione del Consiglio Direttivo mediante telecomunicazione (ZOOM). \nSu WhatsApp saranno comunicati ID riunione e Passcode.
URL:https://www.voltoweb.it/audido/eventi/riunione-del-consiglio-direttivo-5/
CATEGORIES:Riunione on line
END:VEVENT
END:VCALENDAR