BEGIN:VCALENDAR
VERSION:2.0
PRODID:-//AU.DI.DO. - ECPv5.15.0//NONSGML v1.0//EN
CALSCALE:GREGORIAN
METHOD:PUBLISH
X-WR-CALNAME:AU.DI.DO.
X-ORIGINAL-URL:https://www.voltoweb.it/audido
X-WR-CALDESC:Eventi per AU.DI.DO.
BEGIN:VTIMEZONE
TZID:Europe/Rome
BEGIN:DAYLIGHT
TZOFFSETFROM:+0100
TZOFFSETTO:+0200
TZNAME:CEST
DTSTART:20220327T010000
END:DAYLIGHT
BEGIN:STANDARD
TZOFFSETFROM:+0200
TZOFFSETTO:+0100
TZNAME:CET
DTSTART:20221030T010000
END:STANDARD
END:VTIMEZONE
BEGIN:VEVENT
DTSTART;TZID=Europe/Rome:20220619T210000
DTEND;TZID=Europe/Rome:20220619T230000
DTSTAMP:20260421T050654
CREATED:20220622T110713Z
LAST-MODIFIED:20220622T110814Z
UID:12583-1655672400-1655679600@www.voltoweb.it
SUMMARY:Prove generali della CARMEN
DESCRIPTION:Nell’ambito del progetto “L’impegno del Regio”\, presso il Cortile Palazzo dell’Arsenale (via dell’Arsenale\,22-TO) ci saranno le prove generali dell’opera Carmen e il ricavato sarà devoluto all’AU.DI.DO. \nPer chi volesse andare: ritrovo in AU.DI.DO. alle ore 19:00
URL:https://www.voltoweb.it/audido/eventi/prove-generali-della-carmen/
CATEGORIES:spettacolo
END:VEVENT
END:VCALENDAR