BEGIN:VCALENDAR
VERSION:2.0
PRODID:-//AU.DI.DO. - ECPv5.15.0//NONSGML v1.0//EN
CALSCALE:GREGORIAN
METHOD:PUBLISH
X-WR-CALNAME:AU.DI.DO.
X-ORIGINAL-URL:https://www.voltoweb.it/audido
X-WR-CALDESC:Eventi per AU.DI.DO.
BEGIN:VTIMEZONE
TZID:Europe/Rome
BEGIN:DAYLIGHT
TZOFFSETFROM:+0100
TZOFFSETTO:+0200
TZNAME:CEST
DTSTART:20220327T010000
END:DAYLIGHT
BEGIN:STANDARD
TZOFFSETFROM:+0200
TZOFFSETTO:+0100
TZNAME:CET
DTSTART:20221030T010000
END:STANDARD
END:VTIMEZONE
BEGIN:VEVENT
DTSTART;VALUE=DATE:20220723
DTEND;VALUE=DATE:20220724
DTSTAMP:20260421T064316
CREATED:20220721T080539Z
LAST-MODIFIED:20220721T080539Z
UID:12894-1658534400-1658620799@www.voltoweb.it
SUMMARY:Palio dei CUSOT ad Alpignano
DESCRIPTION:L’AU.DI.DO. è presente al Palio dei Cusot con il gazebo di Svoltiamo Pagina. \nRif. Nico e Bruna
URL:https://www.voltoweb.it/audido/eventi/palio-dei-cusot-ad-alpignano/
CATEGORIES:evento
END:VEVENT
END:VCALENDAR