BEGIN:VCALENDAR
VERSION:2.0
PRODID:-//AU.DI.DO. - ECPv5.15.0//NONSGML v1.0//EN
CALSCALE:GREGORIAN
METHOD:PUBLISH
X-WR-CALNAME:AU.DI.DO.
X-ORIGINAL-URL:https://www.voltoweb.it/audido
X-WR-CALDESC:Eventi per AU.DI.DO.
BEGIN:VTIMEZONE
TZID:Europe/Rome
BEGIN:DAYLIGHT
TZOFFSETFROM:+0100
TZOFFSETTO:+0200
TZNAME:CEST
DTSTART:20220327T010000
END:DAYLIGHT
BEGIN:STANDARD
TZOFFSETFROM:+0200
TZOFFSETTO:+0100
TZNAME:CET
DTSTART:20221030T010000
END:STANDARD
END:VTIMEZONE
BEGIN:VEVENT
DTSTART;VALUE=DATE:20220614
DTEND;VALUE=DATE:20220615
DTSTAMP:20260421T051144
CREATED:20220410T162719Z
LAST-MODIFIED:20220528T081849Z
UID:12187-1655164800-1655251199@www.voltoweb.it
SUMMARY:Montagnaterapia\, gita con il CAI
DESCRIPTION:  \nCon il CAI di Alpignano passeggiata serale guidata\, accompagnati dal guardaparco\, al parco della Mandria. \nRitrovo in AU.DI.DO. alle 17:30\, partenza in auto alle 18:00\, cena al sacco. \nRif. Irma \nVai alla News
URL:https://www.voltoweb.it/audido/eventi/montagnaterapia-gita-con-il-cai-2/
CATEGORIES:gita
END:VEVENT
END:VCALENDAR