BEGIN:VCALENDAR
VERSION:2.0
PRODID:-//AU.DI.DO. - ECPv5.15.0//NONSGML v1.0//EN
CALSCALE:GREGORIAN
METHOD:PUBLISH
X-WR-CALNAME:AU.DI.DO.
X-ORIGINAL-URL:https://www.voltoweb.it/audido
X-WR-CALDESC:Eventi per AU.DI.DO.
BEGIN:VTIMEZONE
TZID:Europe/Rome
BEGIN:DAYLIGHT
TZOFFSETFROM:+0100
TZOFFSETTO:+0200
TZNAME:CEST
DTSTART:20210328T010000
END:DAYLIGHT
BEGIN:STANDARD
TZOFFSETFROM:+0200
TZOFFSETTO:+0100
TZNAME:CET
DTSTART:20211031T010000
END:STANDARD
END:VTIMEZONE
BEGIN:VEVENT
DTSTART;VALUE=DATE:20210516
DTEND;VALUE=DATE:20210517
DTSTAMP:20260420T070234
CREATED:20201023T142653Z
LAST-MODIFIED:20210505T073507Z
UID:9873-1621123200-1621209599@www.voltoweb.it
SUMMARY:ANNULLATA Gita estiva con l'Ass.ne Le Ciaspole
DESCRIPTION:Gita estiva con l’Associazione Le Ciaspole. \nLuogo e orari saranno comunicati a tempo debito. \nGITA ANNULLATA CAUSA COVID-19
URL:https://www.voltoweb.it/audido/eventi/gita-estiva-con-lass-ne-le-ciaspole/
CATEGORIES:gita
END:VEVENT
END:VCALENDAR