BEGIN:VCALENDAR
VERSION:2.0
PRODID:-//AU.DI.DO. - ECPv5.15.0//NONSGML v1.0//EN
CALSCALE:GREGORIAN
METHOD:PUBLISH
X-WR-CALNAME:AU.DI.DO.
X-ORIGINAL-URL:https://www.voltoweb.it/audido
X-WR-CALDESC:Eventi per AU.DI.DO.
BEGIN:VTIMEZONE
TZID:Europe/Rome
BEGIN:DAYLIGHT
TZOFFSETFROM:+0100
TZOFFSETTO:+0200
TZNAME:CEST
DTSTART:20210328T010000
END:DAYLIGHT
BEGIN:STANDARD
TZOFFSETFROM:+0200
TZOFFSETTO:+0100
TZNAME:CET
DTSTART:20211031T010000
END:STANDARD
END:VTIMEZONE
BEGIN:VEVENT
DTSTART;VALUE=DATE:20210910
DTEND;VALUE=DATE:20210911
DTSTAMP:20260420T153918
CREATED:20210822T204359Z
LAST-MODIFIED:20210822T204359Z
UID:10960-1631232000-1631318399@www.voltoweb.it
SUMMARY:Gita alle grotte di Borgio Verezzi e a Pietra Ligure
DESCRIPTION:Visita guidata alle grotte di Borgio Verezzi\, dopo la visita la giornata proseguirà a Pietra Ligure. \nRitrovo in AUDIDO alle ore 7:00\, trasferimento in pullman\, pranzo al sacco\, rientro previsto per le ore 19:30 – 20:00. \nRif. Irma
URL:https://www.voltoweb.it/audido/eventi/gita-alle-grotte-di-borgio-verezzi-e-a-pietra-ligure/
CATEGORIES:gita
END:VEVENT
END:VCALENDAR