BEGIN:VCALENDAR
VERSION:2.0
PRODID:-//AU.DI.DO. - ECPv5.15.0//NONSGML v1.0//EN
CALSCALE:GREGORIAN
METHOD:PUBLISH
X-WR-CALNAME:AU.DI.DO.
X-ORIGINAL-URL:https://www.voltoweb.it/audido
X-WR-CALDESC:Eventi per AU.DI.DO.
BEGIN:VTIMEZONE
TZID:Europe/Rome
BEGIN:DAYLIGHT
TZOFFSETFROM:+0100
TZOFFSETTO:+0200
TZNAME:CEST
DTSTART:20210328T010000
END:DAYLIGHT
BEGIN:STANDARD
TZOFFSETFROM:+0200
TZOFFSETTO:+0100
TZNAME:CET
DTSTART:20211031T010000
END:STANDARD
END:VTIMEZONE
BEGIN:VEVENT
DTSTART;TZID=Europe/Rome:20210918T150000
DTEND;TZID=Europe/Rome:20210918T190000
DTSTAMP:20260420T134833
CREATED:20210914T163759Z
LAST-MODIFIED:20210921T124244Z
UID:11103-1631977200-1631991600@www.voltoweb.it
SUMMARY:Festa della cultura e del lettore a Pianezza
DESCRIPTION:FESTA DEL LETTORE a Pianezza in Piazza Vittorio (in caso di pioggia l’evento sarà annullato). \nAUDIDO è presente ed espone i libri di “SVOLTIAMO PAGINA”. \nVai alla news
URL:https://www.voltoweb.it/audido/eventi/giornata-del-lettore/
CATEGORIES:evento
END:VEVENT
END:VCALENDAR