BEGIN:VCALENDAR
VERSION:2.0
PRODID:-//AU.DI.DO. - ECPv5.15.0//NONSGML v1.0//EN
CALSCALE:GREGORIAN
METHOD:PUBLISH
X-WR-CALNAME:AU.DI.DO.
X-ORIGINAL-URL:https://www.voltoweb.it/audido
X-WR-CALDESC:Eventi per AU.DI.DO.
BEGIN:VTIMEZONE
TZID:Europe/Rome
BEGIN:DAYLIGHT
TZOFFSETFROM:+0100
TZOFFSETTO:+0200
TZNAME:CEST
DTSTART:20230326T010000
END:DAYLIGHT
BEGIN:STANDARD
TZOFFSETFROM:+0200
TZOFFSETTO:+0100
TZNAME:CET
DTSTART:20231029T010000
END:STANDARD
END:VTIMEZONE
BEGIN:VEVENT
DTSTART;VALUE=DATE:20231223
DTEND;VALUE=DATE:20231224
DTSTAMP:20260424T013444
CREATED:20231220T221904Z
LAST-MODIFIED:20231220T222032Z
UID:16063-1703289600-1703375999@www.voltoweb.it
SUMMARY:Esposizione manufatti AU.DI.DO. e libri di pregio in sede\, V. Pianezza 36\, Alpignano
DESCRIPTION:Apertura al mattino:                          10:00- 12:00 \nApertura al pomeriggio:                    14:00-19:00 \nVai alla news
URL:https://www.voltoweb.it/audido/eventi/esposizione-manufatti-au-di-do-e-libri-di-pregio-in-sede-v-pianezza-36-alpignano/
LOCATION:In sede
CATEGORIES:evento
END:VEVENT
END:VCALENDAR