BEGIN:VCALENDAR
VERSION:2.0
PRODID:-//AU.DI.DO. - ECPv5.15.0//NONSGML v1.0//EN
CALSCALE:GREGORIAN
METHOD:PUBLISH
X-WR-CALNAME:AU.DI.DO.
X-ORIGINAL-URL:https://www.voltoweb.it/audido
X-WR-CALDESC:Eventi per AU.DI.DO.
BEGIN:VTIMEZONE
TZID:Europe/Rome
BEGIN:DAYLIGHT
TZOFFSETFROM:+0100
TZOFFSETTO:+0200
TZNAME:CEST
DTSTART:20230326T010000
END:DAYLIGHT
BEGIN:STANDARD
TZOFFSETFROM:+0200
TZOFFSETTO:+0100
TZNAME:CET
DTSTART:20231029T010000
END:STANDARD
END:VTIMEZONE
BEGIN:VEVENT
DTSTART;TZID=Europe/Rome:20231125T150000
DTEND;TZID=Europe/Rome:20231125T170000
DTSTAMP:20260426T030139
CREATED:20231121T162218Z
LAST-MODIFIED:20231121T164405Z
UID:15884-1700924400-1700931600@www.voltoweb.it
SUMMARY:Marcia silenziosa contro la violenza sulle donne con partenza dal Comune di Alpignano - V.le Vittoria 14
DESCRIPTION:Vai alla news
URL:https://www.voltoweb.it/audido/eventi/marcia-silenziosa-contro-la-violenza-sulle-donne/
LOCATION:Comune di Alpignano
CATEGORIES:evento
END:VEVENT
END:VCALENDAR