BEGIN:VCALENDAR
VERSION:2.0
PRODID:-//AU.DI.DO. - ECPv5.15.0//NONSGML v1.0//EN
CALSCALE:GREGORIAN
METHOD:PUBLISH
X-WR-CALNAME:AU.DI.DO.
X-ORIGINAL-URL:https://www.voltoweb.it/audido
X-WR-CALDESC:Eventi per AU.DI.DO.
BEGIN:VTIMEZONE
TZID:Europe/Rome
BEGIN:DAYLIGHT
TZOFFSETFROM:+0100
TZOFFSETTO:+0200
TZNAME:CEST
DTSTART:20230326T010000
END:DAYLIGHT
BEGIN:STANDARD
TZOFFSETFROM:+0200
TZOFFSETTO:+0100
TZNAME:CET
DTSTART:20231029T010000
END:STANDARD
BEGIN:DAYLIGHT
TZOFFSETFROM:+0100
TZOFFSETTO:+0200
TZNAME:CEST
DTSTART:20240331T010000
END:DAYLIGHT
BEGIN:STANDARD
TZOFFSETFROM:+0200
TZOFFSETTO:+0100
TZNAME:CET
DTSTART:20241027T010000
END:STANDARD
END:VTIMEZONE
BEGIN:VEVENT
DTSTART;TZID=Europe/Rome:20231231T200000
DTEND;TZID=Europe/Rome:20240101T013000
DTSTAMP:20260424T081514
CREATED:20231229T140056Z
LAST-MODIFIED:20231229T140159Z
UID:16077-1704052800-1704072600@www.voltoweb.it
SUMMARY:Capodanno in sede AU.DI.DO.
DESCRIPTION:
URL:https://www.voltoweb.it/audido/eventi/capodanno-in-sede-au-di-do/
LOCATION:Sede AU.DI.DO. – Fattoria del gelato\, Pianezza – Salone ex Opificio Cruto\, Alpignano
END:VEVENT
END:VCALENDAR