BEGIN:VCALENDAR
VERSION:2.0
PRODID:-//AU.DI.DO. - ECPv5.15.0//NONSGML v1.0//EN
CALSCALE:GREGORIAN
METHOD:PUBLISH
X-WR-CALNAME:AU.DI.DO.
X-ORIGINAL-URL:https://www.voltoweb.it/audido
X-WR-CALDESC:Eventi per AU.DI.DO.
BEGIN:VTIMEZONE
TZID:Europe/Rome
BEGIN:DAYLIGHT
TZOFFSETFROM:+0100
TZOFFSETTO:+0200
TZNAME:CEST
DTSTART:20220327T010000
END:DAYLIGHT
BEGIN:STANDARD
TZOFFSETFROM:+0200
TZOFFSETTO:+0100
TZNAME:CET
DTSTART:20221030T010000
END:STANDARD
END:VTIMEZONE
BEGIN:VEVENT
DTSTART;VALUE=DATE:20220425
DTEND;VALUE=DATE:20220426
DTSTAMP:20260421T014946
CREATED:20220421T162923Z
LAST-MODIFIED:20220422T065934Z
UID:12238-1650844800-1650931199@www.voltoweb.it
SUMMARY:CAMMINATA DELLA LIBERTA'
DESCRIPTION:Ore 9:15 ritrovo in sede AU.DI.DO. per partecipare alla Camminata della Libertà\, camminata per le vie e i parchi di Alpignano. \nPranzo al sacco in Piazza Caduti. \nRif. Nico \nVai alla NEWS
URL:https://www.voltoweb.it/audido/eventi/camminata-della-liberta/
CATEGORIES:evento
END:VEVENT
END:VCALENDAR