BEGIN:VCALENDAR
VERSION:2.0
PRODID:-//AU.DI.DO. - ECPv5.15.0//NONSGML v1.0//EN
CALSCALE:GREGORIAN
METHOD:PUBLISH
X-WR-CALNAME:AU.DI.DO.
X-ORIGINAL-URL:https://www.voltoweb.it/audido
X-WR-CALDESC:Eventi per AU.DI.DO.
BEGIN:VTIMEZONE
TZID:Europe/Rome
BEGIN:DAYLIGHT
TZOFFSETFROM:+0100
TZOFFSETTO:+0200
TZNAME:CEST
DTSTART:20200329T010000
END:DAYLIGHT
BEGIN:STANDARD
TZOFFSETFROM:+0200
TZOFFSETTO:+0100
TZNAME:CET
DTSTART:20201025T010000
END:STANDARD
END:VTIMEZONE
BEGIN:VEVENT
DTSTART;TZID=Europe/Rome:20201010T170000
DTEND;TZID=Europe/Rome:20201010T183000
DTSTAMP:20260420T064948
CREATED:20200930T194620Z
LAST-MODIFIED:20201005T131541Z
UID:9739-1602349200-1602354600@www.voltoweb.it
SUMMARY:Assemblea Generale Soci
DESCRIPTION:Ore 17.00\, in sede\, Assemblea Generale dei Soci in seconda convocazione (prima convocazione venerdì 9 ottobre ore 24.00). Ordine del giorno: \n\nrelazione annuale\nrendicontazione economica 2019\npreventivazione economica 2020\nvarie ed eventuali\n\nChi non potesse partecipare può delegare un altro socio; per ogni socio sono ammesse 2 deleghe. \n 
URL:https://www.voltoweb.it/audido/eventi/assemblea-generale-soci-3/
LOCATION:In sede
CATEGORIES:riunione
END:VEVENT
END:VCALENDAR