BEGIN:VCALENDAR
VERSION:2.0
PRODID:-//AU.DI.DO. - ECPv5.15.0//NONSGML v1.0//EN
CALSCALE:GREGORIAN
METHOD:PUBLISH
X-WR-CALNAME:AU.DI.DO.
X-ORIGINAL-URL:https://www.voltoweb.it/audido
X-WR-CALDESC:Eventi per AU.DI.DO.
BEGIN:VTIMEZONE
TZID:Europe/Rome
BEGIN:DAYLIGHT
TZOFFSETFROM:+0100
TZOFFSETTO:+0200
TZNAME:CEST
DTSTART:20260329T010000
END:DAYLIGHT
BEGIN:STANDARD
TZOFFSETFROM:+0200
TZOFFSETTO:+0100
TZNAME:CET
DTSTART:20261025T010000
END:STANDARD
END:VTIMEZONE
BEGIN:VEVENT
DTSTART;TZID=Europe/Rome:20260425T093000
DTEND;TZID=Europe/Rome:20260425T160000
DTSTAMP:20260423T200150
CREATED:20260423T144618Z
LAST-MODIFIED:20260423T144742Z
UID:22127-1777109400-1777132800@www.voltoweb.it
SUMMARY:25 aprile 2026 - Camminata della Libertà
DESCRIPTION:AU.DI.DO. c’è…e TU?
URL:https://www.voltoweb.it/audido/eventi/25-aprile-2026-camminata-per-la-liberta/
LOCATION:Alpignano
CATEGORIES:evento
ATTACH;FMTTYPE=image/jpeg:https://www.voltoweb.it/audido/wp-content/uploads/sites/17/2026/04/25-aprile-2.jpg
END:VEVENT
END:VCALENDAR