BEGIN:VCALENDAR
VERSION:2.0
PRODID:-//AU.DI.DO. - ECPv5.15.0//NONSGML v1.0//EN
CALSCALE:GREGORIAN
METHOD:PUBLISH
X-WR-CALNAME:AU.DI.DO.
X-ORIGINAL-URL:https://www.voltoweb.it/audido
X-WR-CALDESC:Eventi per AU.DI.DO.
BEGIN:VTIMEZONE
TZID:Europe/Rome
BEGIN:DAYLIGHT
TZOFFSETFROM:+0100
TZOFFSETTO:+0200
TZNAME:CEST
DTSTART:20250330T010000
END:DAYLIGHT
BEGIN:STANDARD
TZOFFSETFROM:+0200
TZOFFSETTO:+0100
TZNAME:CET
DTSTART:20251026T010000
END:STANDARD
END:VTIMEZONE
BEGIN:VEVENT
DTSTART;TZID=Europe/Rome:20250324T080000
DTEND;TZID=Europe/Rome:20250324T170000
DTSTAMP:20260422T175028
CREATED:20250324T171653Z
LAST-MODIFIED:20250324T171653Z
UID:19158-1742803200-1742835600@www.voltoweb.it
SUMMARY:Domenica 30 aprile - Sfilata Carnevale di Alpignano
DESCRIPTION:
URL:https://www.voltoweb.it/audido/eventi/domenica-30-aprile-sfilata-carnevale-di-alpignano/
END:VEVENT
END:VCALENDAR