BEGIN:VCALENDAR
VERSION:2.0
PRODID:-//AU.DI.DO. - ECPv5.15.0//NONSGML v1.0//EN
CALSCALE:GREGORIAN
METHOD:PUBLISH
X-WR-CALNAME:AU.DI.DO.
X-ORIGINAL-URL:https://www.voltoweb.it/audido
X-WR-CALDESC:Eventi per AU.DI.DO.
BEGIN:VTIMEZONE
TZID:Europe/Rome
BEGIN:DAYLIGHT
TZOFFSETFROM:+0100
TZOFFSETTO:+0200
TZNAME:CEST
DTSTART:20250330T010000
END:DAYLIGHT
BEGIN:STANDARD
TZOFFSETFROM:+0200
TZOFFSETTO:+0100
TZNAME:CET
DTSTART:20251026T010000
END:STANDARD
END:VTIMEZONE
BEGIN:VEVENT
DTSTART;TZID=Europe/Rome:20250302T100000
DTEND;TZID=Europe/Rome:20250302T180000
DTSTAMP:20260424T050030
CREATED:20250119T103340Z
LAST-MODIFIED:20250222T185212Z
UID:18898-1740909600-1740938400@www.voltoweb.it
SUMMARY:AU.DI.DO. è al carnevale di CARIGNANO
DESCRIPTION:rif. Irma \nVai alla news
URL:https://www.voltoweb.it/audido/eventi/au-di-do-e-al-carnevale-di-carignano/
CATEGORIES:attività ricreativa
END:VEVENT
END:VCALENDAR