BEGIN:VCALENDAR
VERSION:2.0
PRODID:-//AU.DI.DO. - ECPv5.15.0//NONSGML v1.0//EN
CALSCALE:GREGORIAN
METHOD:PUBLISH
X-WR-CALNAME:AU.DI.DO.
X-ORIGINAL-URL:https://www.voltoweb.it/audido
X-WR-CALDESC:Eventi per AU.DI.DO.
BEGIN:VTIMEZONE
TZID:Europe/Rome
BEGIN:DAYLIGHT
TZOFFSETFROM:+0100
TZOFFSETTO:+0200
TZNAME:CEST
DTSTART:20220327T010000
END:DAYLIGHT
BEGIN:STANDARD
TZOFFSETFROM:+0200
TZOFFSETTO:+0100
TZNAME:CET
DTSTART:20221030T010000
END:STANDARD
END:VTIMEZONE
BEGIN:VEVENT
DTSTART;VALUE=DATE:20220625
DTEND;VALUE=DATE:20220626
DTSTAMP:20260421T050503
CREATED:20220410T163015Z
LAST-MODIFIED:20220528T082119Z
UID:12189-1656115200-1656201599@www.voltoweb.it
SUMMARY:Montagnaterapia\, gita a Entracque con il CAI
DESCRIPTION:Con il CAI di Alpignano gita alla centrale idroelettrica di Entracque (CN). \nRitrovo in AU.DI.DO. alle ore 08:00  –  Rientro previsto alle ore 18:00 \nPranzo al sacco\, trasporto in pullman. \nRif. Irma \nVai alla News
URL:https://www.voltoweb.it/audido/eventi/montagnaterapia-gita-con-il-cai-3/
CATEGORIES:gita
END:VEVENT
BEGIN:VEVENT
DTSTART;TZID=Europe/Rome:20220625T210000
DTEND;TZID=Europe/Rome:20220625T230000
DTSTAMP:20260421T050503
CREATED:20220622T111536Z
LAST-MODIFIED:20220624T100414Z
UID:12585-1656190800-1656198000@www.voltoweb.it
SUMMARY:Spettacolo "SISTER IN BLACK"
DESCRIPTION:Alle ore 21:00\, ad Alpignano in Piazza dei Caduti\, a cura dell’Associazione COMFRA-Combriccola Francescana ci sarà lo spettacolo “Sister in Black”. Si tratta di una serata a scopo benefico a favore dell’AU.DI.DO. \nVai alla News
URL:https://www.voltoweb.it/audido/eventi/spettacolo-sister-in-black/
CATEGORIES:spettacolo
END:VEVENT
END:VCALENDAR