BEGIN:VCALENDAR
VERSION:2.0
PRODID:-//AU.DI.DO. - ECPv5.15.0//NONSGML v1.0//EN
CALSCALE:GREGORIAN
METHOD:PUBLISH
X-WR-CALNAME:AU.DI.DO.
X-ORIGINAL-URL:https://www.voltoweb.it/audido
X-WR-CALDESC:Eventi per AU.DI.DO.
BEGIN:VTIMEZONE
TZID:Europe/Rome
BEGIN:DAYLIGHT
TZOFFSETFROM:+0100
TZOFFSETTO:+0200
TZNAME:CEST
DTSTART:20220327T010000
END:DAYLIGHT
BEGIN:STANDARD
TZOFFSETFROM:+0200
TZOFFSETTO:+0100
TZNAME:CET
DTSTART:20221030T010000
END:STANDARD
END:VTIMEZONE
BEGIN:VEVENT
DTSTART;VALUE=DATE:20220604
DTEND;VALUE=DATE:20220610
DTSTAMP:20260421T031805
CREATED:20210914T134707Z
LAST-MODIFIED:20220619T201035Z
UID:11098-1654300800-1654819199@www.voltoweb.it
SUMMARY:Giochi Nazionali Estivi a Torino (dal 4 al 9 giugno 2022)
DESCRIPTION:Special Olympics – Giochi Nazionali Estivi a Torino. \nPartecipano gli atleti AU.DI.DO. di tennis. \nDurata dei Giochi dal 4 al 9 giugno 2022 \nVai alla News
URL:https://www.voltoweb.it/audido/eventi/giochi-nazionali-estivi-a-torino-dal-5-al-10-giugno-2022/
CATEGORIES:evento,sport
END:VEVENT
END:VCALENDAR