BEGIN:VCALENDAR
VERSION:2.0
PRODID:-//AU.DI.DO. - ECPv5.15.0//NONSGML v1.0//EN
CALSCALE:GREGORIAN
METHOD:PUBLISH
X-WR-CALNAME:AU.DI.DO.
X-ORIGINAL-URL:https://www.voltoweb.it/audido
X-WR-CALDESC:Eventi per AU.DI.DO.
BEGIN:VTIMEZONE
TZID:Europe/Rome
BEGIN:DAYLIGHT
TZOFFSETFROM:+0100
TZOFFSETTO:+0200
TZNAME:CEST
DTSTART:20220327T010000
END:DAYLIGHT
BEGIN:STANDARD
TZOFFSETFROM:+0200
TZOFFSETTO:+0100
TZNAME:CET
DTSTART:20221030T010000
END:STANDARD
END:VTIMEZONE
BEGIN:VEVENT
DTSTART;TZID=Europe/Rome:20220528T210000
DTEND;TZID=Europe/Rome:20220529T010000
DTSTAMP:20260421T032601
CREATED:20220524T112710Z
LAST-MODIFIED:20220526T112809Z
UID:12459-1653771600-1653786000@www.voltoweb.it
SUMMARY:Serata TORCH RUN in sede
DESCRIPTION:Proveniente da Prali\, alle ore 21:00 arriva in sede AU.DI.DO. la fiaccola olimpica del TORCH RUN. \nSerata in sede con intrattenimenti vari (video\, musica\, TV…) fino alle ore 01:00 circa. \nRif. Gianfranco \nVai alla News \n 
URL:https://www.voltoweb.it/audido/eventi/serata-torch-run-in-sede/
CATEGORIES:incontro
END:VEVENT
BEGIN:VEVENT
DTSTART;VALUE=DATE:20220529
DTEND;VALUE=DATE:20220530
DTSTAMP:20260421T032601
CREATED:20220410T105654Z
LAST-MODIFIED:20220526T112854Z
UID:12185-1653782400-1653868799@www.voltoweb.it
SUMMARY:Fiaccolata TORCH RUN
DESCRIPTION:Programma relativo al TORCH RUN\, fiaccolata in Alpignano legata agli Special Olympics. \nOre 09:30 ritrovo in AU.DI.DO. \nOre 09:45 partenza della staffetta con gli atleti AU.DI.DO. Special Olympics  –  Ore 11:00 circa\, arrivo della fiaccola al Parco della Pace; \nIl termine della manifestazione è previsto per le ore 12:30 circa\, segue il Pic-Nic Solidale per chi vuole fermarsi. \nRif. Gianfranco \nVai alla News
URL:https://www.voltoweb.it/audido/eventi/fiaccolata-torch-run/
CATEGORIES:evento
END:VEVENT
END:VCALENDAR