BEGIN:VCALENDAR
VERSION:2.0
PRODID:-//AU.DI.DO. - ECPv5.15.0//NONSGML v1.0//EN
CALSCALE:GREGORIAN
METHOD:PUBLISH
X-WR-CALNAME:AU.DI.DO.
X-ORIGINAL-URL:https://www.voltoweb.it/audido
X-WR-CALDESC:Eventi per AU.DI.DO.
BEGIN:VTIMEZONE
TZID:Europe/Rome
BEGIN:DAYLIGHT
TZOFFSETFROM:+0100
TZOFFSETTO:+0200
TZNAME:CEST
DTSTART:20220327T010000
END:DAYLIGHT
BEGIN:STANDARD
TZOFFSETFROM:+0200
TZOFFSETTO:+0100
TZNAME:CET
DTSTART:20221030T010000
END:STANDARD
END:VTIMEZONE
BEGIN:VEVENT
DTSTART;VALUE=DATE:20220507
DTEND;VALUE=DATE:20220508
DTSTAMP:20260421T031717
CREATED:20220428T091105Z
LAST-MODIFIED:20220428T091105Z
UID:12283-1651881600-1651967999@www.voltoweb.it
SUMMARY:Montagnaterapia\, gita con il CAI
DESCRIPTION:Gita con il CAI di Alpignano al Rifugio del Ciargiur di Coazze. \nRitrovo in sede AU.DI.DO. alle 08:30\, trasferimento in pullman\, pranzo al sacco\, ritorno previsto per le ore 18:00 circa. \nRif. Irma
URL:https://www.voltoweb.it/audido/eventi/montagnaterapia-gita-con-il-cai-4/
CATEGORIES:gita
END:VEVENT
END:VCALENDAR