BEGIN:VCALENDAR
VERSION:2.0
PRODID:-//AU.DI.DO. - ECPv5.15.0//NONSGML v1.0//EN
CALSCALE:GREGORIAN
METHOD:PUBLISH
X-WR-CALNAME:AU.DI.DO.
X-ORIGINAL-URL:https://www.voltoweb.it/audido
X-WR-CALDESC:Eventi per AU.DI.DO.
BEGIN:VTIMEZONE
TZID:Europe/Rome
BEGIN:DAYLIGHT
TZOFFSETFROM:+0100
TZOFFSETTO:+0200
TZNAME:CEST
DTSTART:20220327T010000
END:DAYLIGHT
BEGIN:STANDARD
TZOFFSETFROM:+0200
TZOFFSETTO:+0100
TZNAME:CET
DTSTART:20221030T010000
END:STANDARD
END:VTIMEZONE
BEGIN:VEVENT
DTSTART;TZID=Europe/Rome:20220313T160000
DTEND;TZID=Europe/Rome:20220313T180000
DTSTAMP:20260421T001536
CREATED:20220308T200305Z
LAST-MODIFIED:20220310T064516Z
UID:12014-1647187200-1647194400@www.voltoweb.it
SUMMARY:Presentazione di "Svoltiamo Pagina"
DESCRIPTION:In sede\, alle ore 16:00\, presentazione del progetto “Svoltiamo Pagina”. \nRif. Bruna Casale \nVai alla NEWS \n 
URL:https://www.voltoweb.it/audido/eventi/presentazione-di-svoltiamo-pagina/
CATEGORIES:evento
END:VEVENT
END:VCALENDAR