BEGIN:VCALENDAR
VERSION:2.0
PRODID:-//AU.DI.DO. - ECPv5.15.0//NONSGML v1.0//EN
CALSCALE:GREGORIAN
METHOD:PUBLISH
X-WR-CALNAME:AU.DI.DO.
X-ORIGINAL-URL:https://www.voltoweb.it/audido
X-WR-CALDESC:Eventi per AU.DI.DO.
BEGIN:VTIMEZONE
TZID:Europe/Rome
BEGIN:DAYLIGHT
TZOFFSETFROM:+0100
TZOFFSETTO:+0200
TZNAME:CEST
DTSTART:20220327T010000
END:DAYLIGHT
BEGIN:STANDARD
TZOFFSETFROM:+0200
TZOFFSETTO:+0100
TZNAME:CET
DTSTART:20221030T010000
END:STANDARD
END:VTIMEZONE
BEGIN:VEVENT
DTSTART;VALUE=DATE:20220227
DTEND;VALUE=DATE:20220228
DTSTAMP:20260420T223010
CREATED:20211006T134410Z
LAST-MODIFIED:20220217T154539Z
UID:11281-1645920000-1646006399@www.voltoweb.it
SUMMARY:Montagnaterapia - Gita con il CAI di Alpignano al Santuario di Belmonte
DESCRIPTION:Con il CAI di Alpignano escursione al Santuario di Belmonte. \nRitrovo alle ore 8:30 in AU.DI.DO.\, trasferimento in pullman\, pranzo al sacco. \nContributo di partecipazione: Euro 10\,00 \nRif. Irma \nVai alla News
URL:https://www.voltoweb.it/audido/eventi/gita-con-lassociazione-le-ciaspole/
CATEGORIES:gita
END:VEVENT
END:VCALENDAR