BEGIN:VCALENDAR
VERSION:2.0
PRODID:-//AU.DI.DO. - ECPv5.15.0//NONSGML v1.0//EN
CALSCALE:GREGORIAN
METHOD:PUBLISH
X-WR-CALNAME:AU.DI.DO.
X-ORIGINAL-URL:https://www.voltoweb.it/audido
X-WR-CALDESC:Eventi per AU.DI.DO.
BEGIN:VTIMEZONE
TZID:Europe/Rome
BEGIN:DAYLIGHT
TZOFFSETFROM:+0100
TZOFFSETTO:+0200
TZNAME:CEST
DTSTART:20220327T010000
END:DAYLIGHT
BEGIN:STANDARD
TZOFFSETFROM:+0200
TZOFFSETTO:+0100
TZNAME:CET
DTSTART:20221030T010000
END:STANDARD
END:VTIMEZONE
BEGIN:VEVENT
DTSTART;TZID=Europe/Rome:20220123T150000
DTEND;TZID=Europe/Rome:20220123T173000
DTSTAMP:20260420T204018
CREATED:20220127T153149Z
LAST-MODIFIED:20220127T153312Z
UID:11796-1642950000-1642959000@www.voltoweb.it
SUMMARY:Camminata in Alpignano
DESCRIPTION:Seconda uscita con camminata in Alpignano e dintorni. Ritrovo in sede alle ore 15:00. \nRif. Nico Paiuzza
URL:https://www.voltoweb.it/audido/eventi/camminata-in-alpignano/
CATEGORIES:attività
END:VEVENT
END:VCALENDAR