BEGIN:VCALENDAR
VERSION:2.0
PRODID:-//AU.DI.DO. - ECPv5.15.0//NONSGML v1.0//EN
CALSCALE:GREGORIAN
METHOD:PUBLISH
X-WR-CALNAME:AU.DI.DO.
X-ORIGINAL-URL:https://www.voltoweb.it/audido
X-WR-CALDESC:Eventi per AU.DI.DO.
BEGIN:VTIMEZONE
TZID:Europe/Rome
BEGIN:DAYLIGHT
TZOFFSETFROM:+0100
TZOFFSETTO:+0200
TZNAME:CEST
DTSTART:20220327T010000
END:DAYLIGHT
BEGIN:STANDARD
TZOFFSETFROM:+0200
TZOFFSETTO:+0100
TZNAME:CET
DTSTART:20221030T010000
END:STANDARD
END:VTIMEZONE
BEGIN:VEVENT
DTSTART;TZID=Europe/Rome:20220116T150000
DTEND;TZID=Europe/Rome:20220116T173000
DTSTAMP:20260420T204020
CREATED:20220121T173943Z
LAST-MODIFIED:20220121T173943Z
UID:11779-1642345200-1642354200@www.voltoweb.it
SUMMARY:Camminata
DESCRIPTION:Camminata ALPIGNANO-PIANEZZA lungo la Dora. \nRitrovo in sede alle ore 15:00\, rientro previsto alle 17:30. \nRif. Nico Paiuzza
URL:https://www.voltoweb.it/audido/eventi/camminata/
CATEGORIES:attività
END:VEVENT
END:VCALENDAR