BEGIN:VCALENDAR
VERSION:2.0
PRODID:-//AU.DI.DO. - ECPv5.15.0//NONSGML v1.0//EN
CALSCALE:GREGORIAN
METHOD:PUBLISH
X-WR-CALNAME:AU.DI.DO.
X-ORIGINAL-URL:https://www.voltoweb.it/audido
X-WR-CALDESC:Eventi per AU.DI.DO.
BEGIN:VTIMEZONE
TZID:Europe/Rome
BEGIN:DAYLIGHT
TZOFFSETFROM:+0100
TZOFFSETTO:+0200
TZNAME:CEST
DTSTART:20210328T010000
END:DAYLIGHT
BEGIN:STANDARD
TZOFFSETFROM:+0200
TZOFFSETTO:+0100
TZNAME:CET
DTSTART:20211031T010000
END:STANDARD
END:VTIMEZONE
BEGIN:VEVENT
DTSTART;TZID=Europe/Rome:20211219T160000
DTEND;TZID=Europe/Rome:20211219T183000
DTSTAMP:20260420T204302
CREATED:20211129T153739Z
LAST-MODIFIED:20211214T204615Z
UID:11665-1639929600-1639938600@www.voltoweb.it
SUMMARY:Evento delle MILLE GRU
DESCRIPTION:Alle ore 16:00\, in sede\, Mariolino Ceres presenta la “Leggenda delle MILLE GRU”. \nVai alla News \n 
URL:https://www.voltoweb.it/audido/eventi/spettacolo-in-audido-2/
CATEGORIES:spettacolo
END:VEVENT
END:VCALENDAR