BEGIN:VCALENDAR
VERSION:2.0
PRODID:-//AU.DI.DO. - ECPv5.15.0//NONSGML v1.0//EN
CALSCALE:GREGORIAN
METHOD:PUBLISH
X-WR-CALNAME:AU.DI.DO.
X-ORIGINAL-URL:https://www.voltoweb.it/audido
X-WR-CALDESC:Eventi per AU.DI.DO.
BEGIN:VTIMEZONE
TZID:Europe/Rome
BEGIN:DAYLIGHT
TZOFFSETFROM:+0100
TZOFFSETTO:+0200
TZNAME:CEST
DTSTART:20210328T010000
END:DAYLIGHT
BEGIN:STANDARD
TZOFFSETFROM:+0200
TZOFFSETTO:+0100
TZNAME:CET
DTSTART:20211031T010000
END:STANDARD
END:VTIMEZONE
BEGIN:VEVENT
DTSTART;TZID=Europe/Rome:20211218T150000
DTEND;TZID=Europe/Rome:20211218T180000
DTSTAMP:20260420T190442
CREATED:20211213T131604Z
LAST-MODIFIED:20211215T133035Z
UID:11712-1639839600-1639850400@www.voltoweb.it
SUMMARY:Auguri in AUDIDO rinviati
DESCRIPTION:Alle ore 15:00\, in sede\, scambio di auguri natalizi con alcuni rappresentati di UNITRE TEATRO di Alpignano. \nRif. Nico \nCAUSA PEGGIORAMENTO SITUAZIONE COVID IN ALPIGNANO\, AUGURI RINVIATI A DATA DA DEFINIRE.
URL:https://www.voltoweb.it/audido/eventi/auguri-natalizi-in-audido/
CATEGORIES:festa,incontro
END:VEVENT
END:VCALENDAR