BEGIN:VCALENDAR
VERSION:2.0
PRODID:-//AU.DI.DO. - ECPv5.15.0//NONSGML v1.0//EN
CALSCALE:GREGORIAN
METHOD:PUBLISH
X-WR-CALNAME:AU.DI.DO.
X-ORIGINAL-URL:https://www.voltoweb.it/audido
X-WR-CALDESC:Eventi per AU.DI.DO.
BEGIN:VTIMEZONE
TZID:Europe/Rome
BEGIN:DAYLIGHT
TZOFFSETFROM:+0100
TZOFFSETTO:+0200
TZNAME:CEST
DTSTART:20210328T010000
END:DAYLIGHT
BEGIN:STANDARD
TZOFFSETFROM:+0200
TZOFFSETTO:+0100
TZNAME:CET
DTSTART:20211031T010000
END:STANDARD
END:VTIMEZONE
BEGIN:VEVENT
DTSTART;VALUE=DATE:20211004
DTEND;VALUE=DATE:20211005
DTSTAMP:20260420T151418
CREATED:20211005T185922Z
LAST-MODIFIED:20211005T192529Z
UID:11228-1633305600-1633391999@www.voltoweb.it
SUMMARY:Gita a Verzuolo del gruppo "Comunicare le diverse abilità"
DESCRIPTION:In attesa di riprendere le attività del progetto “Comunicare le diverse abilità”\,  uscita giornaliera a Verzuolo (CN) per conoscere il Mondo delle API con la Cooperativa Sociale ” I Ciliegi in fiore” \nRif. Antonella G.
URL:https://www.voltoweb.it/audido/eventi/gita-a-verzuolo-del-gruppo-comunicare-le-diverse-abilita/
END:VEVENT
BEGIN:VEVENT
DTSTART;VALUE=DATE:20211004
DTEND;VALUE=DATE:20211005
DTSTAMP:20260420T151418
CREATED:20211006T133805Z
LAST-MODIFIED:20211006T133805Z
UID:11279-1633305600-1633391999@www.voltoweb.it
SUMMARY:Gita a Verzuolo
DESCRIPTION:Gita a Verzuolo nel cuneese per conoscere il mondo delle api con la Cooperativa Sociale “I Ciliegi in Fiore”. \nRitrovo alle ore 8:30  davanti alla Chiesa di San Pancrazio\, trasferimento in auto\, pranzo al sacco. \nRif. Antonella
URL:https://www.voltoweb.it/audido/eventi/gita-a-verzuolo/
CATEGORIES:gita
END:VEVENT
END:VCALENDAR