BEGIN:VCALENDAR
VERSION:2.0
PRODID:-//AU.DI.DO. - ECPv5.15.0//NONSGML v1.0//EN
CALSCALE:GREGORIAN
METHOD:PUBLISH
X-WR-CALNAME:AU.DI.DO.
X-ORIGINAL-URL:https://www.voltoweb.it/audido
X-WR-CALDESC:Eventi per AU.DI.DO.
BEGIN:VTIMEZONE
TZID:Europe/Rome
BEGIN:DAYLIGHT
TZOFFSETFROM:+0100
TZOFFSETTO:+0200
TZNAME:CEST
DTSTART:20210328T010000
END:DAYLIGHT
BEGIN:STANDARD
TZOFFSETFROM:+0200
TZOFFSETTO:+0100
TZNAME:CET
DTSTART:20211031T010000
END:STANDARD
END:VTIMEZONE
BEGIN:VEVENT
DTSTART;TZID=Europe/Rome:20210930T180000
DTEND;TZID=Europe/Rome:20210930T213000
DTSTAMP:20260420T134710
CREATED:20210927T170604Z
LAST-MODIFIED:20210927T170714Z
UID:11221-1633024800-1633037400@www.voltoweb.it
SUMMARY:Gita serale con il CAI di Alpignano
DESCRIPTION:Con il CAI di Alpignano escursione serale lungo la VIA DEI PELLEGRINI\, tratto di Caselette. \nRitrovo alle ore 18:00 in piazza Carlo Cays\, Caselette. \nRif. Irma
URL:https://www.voltoweb.it/audido/eventi/gita-serale-con-il-cai-di-alpignano/
CATEGORIES:gita
END:VEVENT
END:VCALENDAR