BEGIN:VCALENDAR
VERSION:2.0
PRODID:-//Associazione V.I.T.A. Chieri - ECPv5.15.0//NONSGML v1.0//EN
CALSCALE:GREGORIAN
METHOD:PUBLISH
X-WR-CALNAME:Associazione V.I.T.A. Chieri
X-ORIGINAL-URL:https://www.voltoweb.it/associazionevitachieri
X-WR-CALDESC:Eventi per Associazione V.I.T.A. Chieri
BEGIN:VTIMEZONE
TZID:Europe/Rome
BEGIN:DAYLIGHT
TZOFFSETFROM:+0100
TZOFFSETTO:+0200
TZNAME:CEST
DTSTART:20190331T010000
END:DAYLIGHT
BEGIN:STANDARD
TZOFFSETFROM:+0200
TZOFFSETTO:+0100
TZNAME:CET
DTSTART:20191027T010000
END:STANDARD
END:VTIMEZONE
BEGIN:VEVENT
DTSTART;TZID=Europe/Rome:20190307T210000
DTEND;TZID=Europe/Rome:20190307T230000
DTSTAMP:20260421T113449
CREATED:20190307T081748Z
LAST-MODIFIED:20200401T171451Z
UID:877-1551992400-1551999600@www.voltoweb.it
SUMMARY:Omaggio alla VITA - Ritratti di donna
DESCRIPTION:L’Associazione V.I.T.A. e il gruppo Le Swinging Ladies invitano ad una serata dedicata alle donne: danza\, musica e recitazione. Un’occasione per riflettere sul mondo femminile in un contesto artistico e di volontariato condiviso. \nIngresso libero. Eventuali offerte saranno devolute alla associazione V.I.T.A. Onlus. \nL’evento è organizzato con il patrocinio della Città di Chieri
URL:https://www.voltoweb.it/associazionevitachieri/eventi/omaggio-alla-vita/
LOCATION:Sala della Conceria\, Chieri\, Via della Conceria 2\,\, Chieri\, Italia
CATEGORIES:Agenda
ATTACH;FMTTYPE=image/png:https://www.voltoweb.it/associazionevitachieri/wp-content/uploads/sites/9/2015/11/2019-03-07-loc-vert.png
END:VEVENT
END:VCALENDAR