BEGIN:VCALENDAR
VERSION:2.0
PRODID:-//Associazione V.I.T.A. Chieri - ECPv5.15.0//NONSGML v1.0//EN
CALSCALE:GREGORIAN
METHOD:PUBLISH
X-WR-CALNAME:Associazione V.I.T.A. Chieri
X-ORIGINAL-URL:https://www.voltoweb.it/associazionevitachieri
X-WR-CALDESC:Eventi per Associazione V.I.T.A. Chieri
BEGIN:VTIMEZONE
TZID:Europe/Rome
BEGIN:DAYLIGHT
TZOFFSETFROM:+0100
TZOFFSETTO:+0200
TZNAME:CEST
DTSTART:20240331T010000
END:DAYLIGHT
BEGIN:STANDARD
TZOFFSETFROM:+0200
TZOFFSETTO:+0100
TZNAME:CET
DTSTART:20241027T010000
END:STANDARD
END:VTIMEZONE
BEGIN:VEVENT
DTSTART;TZID=Europe/Rome:20240406T100000
DTEND;TZID=Europe/Rome:20240406T113000
DTSTAMP:20260421T114652
CREATED:20240406T154941Z
LAST-MODIFIED:20241110T204128Z
UID:2595-1712397600-1712403000@www.voltoweb.it
SUMMARY:Donne Stra-ordinarie\, Riva presso Chieri
DESCRIPTION:Si ringrazia l’amministrazione di Riva presso Chieri per la disponibilità e la collaborazione dimostrata da tempo nei confronti di associazione V.I.T.A.\, che si sono concretizzate nella ripetuta condivisione  dell’evento Ottobre Rosa con l’inaugurazione delle panchine della prevenzione presso la Biblioteca Civica (anno 2021) e l’illuminazione della Torre Astense. \nLetture\, incontri\, nuovi stimoli… Grazie per questa esperienza straordinaria!
URL:https://www.voltoweb.it/associazionevitachieri/eventi/donne-stra-ordinarie-riva-presso-chieri/
LOCATION:Palazzo Grosso\, Piazza della Parrocchia\, 4\, Riva presso Chieri\, 10020
CATEGORIES:Agenda
ATTACH;FMTTYPE=image/png:https://www.voltoweb.it/associazionevitachieri/wp-content/uploads/sites/9/2015/11/Lettura2.png
END:VEVENT
END:VCALENDAR