BEGIN:VCALENDAR
VERSION:2.0
PRODID:-//Associazione V.I.T.A. Chieri - ECPv5.15.0//NONSGML v1.0//EN
CALSCALE:GREGORIAN
METHOD:PUBLISH
X-WR-CALNAME:Associazione V.I.T.A. Chieri
X-ORIGINAL-URL:https://www.voltoweb.it/associazionevitachieri
X-WR-CALDESC:Eventi per Associazione V.I.T.A. Chieri
BEGIN:VTIMEZONE
TZID:Europe/Rome
BEGIN:DAYLIGHT
TZOFFSETFROM:+0100
TZOFFSETTO:+0200
TZNAME:CEST
DTSTART:20240331T010000
END:DAYLIGHT
BEGIN:STANDARD
TZOFFSETFROM:+0200
TZOFFSETTO:+0100
TZNAME:CET
DTSTART:20241027T010000
END:STANDARD
END:VTIMEZONE
BEGIN:VEVENT
DTSTART;TZID=Europe/Rome:20240323T173000
DTEND;TZID=Europe/Rome:20240323T183000
DTSTAMP:20260421T125936
CREATED:20240323T155501Z
LAST-MODIFIED:20241110T204139Z
UID:2538-1711215000-1711218600@www.voltoweb.it
SUMMARY:Donne Stra-ordinarie\, Villanova d'Asti
DESCRIPTION:Presso la Biblioteca Comunale Dada Rosso presentazione dell’ultimo libro del laboratorio di scrittura Donne stra-ordinarie. \nE’ un lavoro corale\, a cui hanno contribuito con i loro scritti 16 donne\, socie dell’associazione\,  che si sono incontrate con regolarità per quasi due anni. I temi sono molto diversi\, dalla contemplazione della natura alla problematica del dolore e della malattia\, agli aspetti più intriganti e anche comici del mondo femminile. Dalle pagine del libro emergono le diverse psicologie delle “scrittrici”;  la scrittura in questi anni\, per molte donne dell’associazione\, è stata sfogo\, comunicazione\, rivelazione\, poesia… \nAnche scrivere può essere un esercizio di ricerca del ben-essere: le donne di V.I.T.A. hanno sperimentato la virtù terapeutica delle parole e sono anche riuscite a dar voce a chi è più portato ad altre attività\, ma si riconosce in esperienze simili. \n \n  \n    \n  \n 
URL:https://www.voltoweb.it/associazionevitachieri/eventi/donne-stra-ordinarie-3/
LOCATION:Biblioteca Comunale Dada Rosso\, Villanova d'Asti
CATEGORIES:Agenda
ATTACH;FMTTYPE=image/png:https://www.voltoweb.it/associazionevitachieri/wp-content/uploads/sites/9/2015/11/Lettura2.png
END:VEVENT
END:VCALENDAR